BEGIN:VCALENDAR
BEGIN:VEVENT
SUMMARY:Boom Boom Revolution 1yr Anniversary: DJ Sour\, SEXINCHURCH\, Ms C
 arrie Stacks\, A.P. Glam\, MONEPNEPTUNE\, Telfar [nycnoise]
DTSTART:20251228T030000Z
DTEND:20251228T040000Z
UID:994677f6-0c98-40af-9611-b4785efe50b2
CREATED:20260425T184107Z
DESCRIPTION:
LOCATION:bossa nova civic club (1271 myrtle ave\, brooklyn)
END:VEVENT
END:VCALENDAR
