BEGIN:VCALENDAR
BEGIN:VEVENT
SUMMARY:Population III: Nema Hän\, Valentin Lamar\, Ben Zo [nycnoise]
DTSTART:20251230T030000Z
DTEND:20251230T040000Z
UID:5dc770ef-be20-44e2-8e7a-236e4f2f8494
CREATED:20260425T184105Z
DESCRIPTION:
LOCATION:bossa nova civic club (1271 myrtle ave\, brooklyn)
END:VEVENT
END:VCALENDAR
