BEGIN:VCALENDAR
BEGIN:VEVENT
SUMMARY:Catharsis: Saintclair\, estro\, Mila Gama\, Franzini [nycnoise]
DTSTART:20251231T030000Z
DTEND:20251231T040000Z
UID:a40ebc62-b35e-4392-8b06-1269156cc012
CREATED:20260425T183938Z
DESCRIPTION:
LOCATION:bossa nova civic club (1271 myrtle ave\, brooklyn)
END:VEVENT
END:VCALENDAR
