BEGIN:VCALENDAR
BEGIN:VEVENT
SUMMARY:Pique-nique & Jaid Records present: Joy Guidry & Dorchel Haqq\, YA
 TTA\, SCRAAATCH (E. Jane & chukwumaa)\, chelsea [nycnoise]
DTSTART:20251207T000000Z
DTEND:20251207T010000Z
UID:a8f2a367-aa32-47b8-a5e6-6c5b2335fba0
CREATED:20260425T183805Z
DESCRIPTION:"ambient in movement ... improvisation\, performance &amp\; cl
 ub culture"
LOCATION:light & sound design
END:VEVENT
END:VCALENDAR
