BEGIN:VCALENDAR
BEGIN:VEVENT
SUMMARY:dance practice (a dancefloor meditation): Robin Cantrell\, Greesh 
 [nycnoise]
DTSTART:20251211T010000Z
DTEND:20251211T020000Z
UID:15687c77-c8dc-4ce9-ae82-b60541cb55f2
CREATED:20260425T183938Z
DESCRIPTION:7:30pm doors\, "begins with a group instruction on mindful mov
 ement &amp\; body awareness"
LOCATION:light & sound design
END:VEVENT
END:VCALENDAR
