BEGIN:VCALENDAR
BEGIN:VEVENT
SUMMARY:Lobster Tooth Recs presents: Christian M\, Monograms (Solo)\, RPC 
 [nycnoise]
DTSTART:20251203T003000Z
DTEND:20251203T013000Z
UID:cabe5c51-1b65-4a42-a2dc-90d046bbc4b5
CREATED:20260425T183805Z
DESCRIPTION:
LOCATION:cassette (68-38 forest ave bsmt\, ridgewood)
END:VEVENT
END:VCALENDAR
