BEGIN:VCALENDAR
BEGIN:VEVENT
SUMMARY:Playback 0023: Satch Hoyt [nycnoise]
DTSTART:20251203T230000Z
DTEND:20251204T000000Z
UID:c93a541d-a03f-48bb-8d99-20a1a7bbc098
CREATED:20260425T183804Z
DESCRIPTION:these (usually?) aren't "live" but including for now
LOCATION:bar laika (224 greene ave\, brooklyn)
END:VEVENT
END:VCALENDAR
