BEGIN:VCALENDAR
BEGIN:VEVENT
SUMMARY:Paul de Jong with Beth Daunis [nycnoise]
DTSTART:20251214T010000Z
DTEND:20251214T020000Z
UID:74c75074-e20f-4ee5-ae59-59b42dd3b0ad
CREATED:20260425T184134Z
DESCRIPTION:
LOCATION:issue project room (22 boerum place\, brooklyn)
END:VEVENT
END:VCALENDAR
