BEGIN:VCALENDAR
BEGIN:VEVENT
SUMMARY:29 Speedway presents: Evicshen\, Leila Bordreuil\, Pública [nycno
 ise]
DTSTART:20260327T000000Z
DTEND:20260327T010000Z
UID:69ec1819-2d22-427a-a424-48cd1ec61de5
CREATED:20260425T130549Z
DESCRIPTION:🇵🇸 PACBI (29 speedway!) //&nbsp\;flyer
LOCATION:life world (563 Johnson Ave\, Brooklyn\, NY 11237)
END:VEVENT
END:VCALENDAR
