BEGIN:VCALENDAR
BEGIN:VEVENT
SUMMARY:Improvisational Music Series: Jonathan Haffner Group\, Kevin Eiche
 nberger Group (w/ Samantha Kochis\, Buz Donald) [nycnoise]
DTSTART:20251203T000000Z
DTEND:20251203T010000Z
UID:ac1e2841-18d3-4d49-91e3-4ee966e800dc
CREATED:20260425T183939Z
DESCRIPTION:6:30pm doors\; JH w/ James Buckley\, Jeff Davis\, Jonathan Gol
 dberger\;&nbsp\;9pm "open jam"
LOCATION:main drag (50 s. 1st st.\, brooklyn)
END:VEVENT
END:VCALENDAR
