BEGIN:VCALENDAR
BEGIN:VEVENT
SUMMARY:The Modern Airline\, Racket Squad\, Famous Logs in History [nycnoi
 se]
DTSTART:20251213T210000Z
DTEND:20251213T220000Z
UID:39cbd7d1-152d-4f0f-a125-781459d5b30b
CREATED:20260425T183933Z
DESCRIPTION:
LOCATION:mama tried (787 3rd ave\, brooklyn)
END:VEVENT
END:VCALENDAR
