BEGIN:VCALENDAR
BEGIN:VEVENT
SUMMARY:Liv Ryan x Yesterday Tomorrow w/ Sounds by Akil & Enzo [nycnoise]
DTSTART:20251207T170000Z
DTEND:20251207T180000Z
UID:eff6c2d5-55ca-4d66-8518-728272a44228
CREATED:20260425T184015Z
DESCRIPTION:
LOCATION:record shop (360 van brunt st.\, brooklyn)
END:VEVENT
END:VCALENDAR
