BEGIN:VCALENDAR
BEGIN:VEVENT
SUMMARY:Striped Light presents: Peter Evans\, Church Car (Ian Douglas-Moor
 e & Aaron Snyder)\, Mostly Other People Do the Killing (Ron Stabinsky\, Ke
 vin Shea\, Moppa Elliott) [nycnoise]
DTSTART:20251216T010000Z
DTEND:20251216T020000Z
UID:c1000899-3b85-490d-a5c9-ac67791bd654
CREATED:20260425T183938Z
DESCRIPTION:7:30pm doors
LOCATION:striped light
END:VEVENT
END:VCALENDAR
