BEGIN:VCALENDAR
BEGIN:VEVENT
SUMMARY:gaucimusic presents: Ayumi Ishito / Jeff Miles / Evan Palmer / Ken
  Kobayashi\, Stephen Gauci / Palmer / Kevin Shea\, Yoni Kretzmer / Peter B
 itenc / TBA [nycnoise]
DTSTART:20251220T233000Z
DTEND:20251221T003000Z
UID:5c2cebf8-296e-489d-b873-a76396017d9f
CREATED:20260425T184113Z
DESCRIPTION:
LOCATION:downtown music gallery (13 monroe st.\, manhattan)
END:VEVENT
END:VCALENDAR
