BEGIN:VCALENDAR
BEGIN:VEVENT
SUMMARY:SNEAL\, WISH WISH\, Howard Huang [nycnoise]
DTSTART:20251208T010000Z
DTEND:20251208T020000Z
UID:ce70af7d-8776-4c68-b8ac-d82ced918c89
CREATED:20260425T184112Z
DESCRIPTION:7:30pm doors
LOCATION:francis kite club (40 loisaida ave\, manhattan)
END:VEVENT
END:VCALENDAR
