BEGIN:VCALENDAR
BEGIN:VEVENT
SUMMARY:No One and the Somebodies\, Normaal\, Sweepers\, Half [nycnoise]
DTSTART:20251204T013000Z
DTEND:20251204T023000Z
UID:95eb11e9-f7f7-46c1-bab5-d7915faa8ce5
CREATED:20260425T183931Z
DESCRIPTION:
LOCATION:hart bar (538 hart st.\, brooklyn)
END:VEVENT
END:VCALENDAR
