BEGIN:VCALENDAR
BEGIN:VEVENT
SUMMARY:Tealeaf x Collective Scream Present: Circle of Sevens\, Granite Ga
 rden\, Star Card\, John Cunningham [nycnoise]
DTSTART:20251205T000000Z
DTEND:20251205T010000Z
UID:80083a19-5d94-4c21-a749-b23eeb9545db
CREATED:20260425T184012Z
DESCRIPTION:"Make The Road Benefit Show"
LOCATION:hart bar (538 hart st.\, brooklyn)
END:VEVENT
END:VCALENDAR
