BEGIN:VCALENDAR
BEGIN:VEVENT
SUMMARY:Noise for Toys: Chase Freedom Unlimited\, Reaches\, Adeline Hotel\
 , Brady Only [nycnoise]
DTSTART:20251209T010000Z
DTEND:20251209T020000Z
UID:516b8084-9534-4bb5-80cd-d39984c7e9c1
CREATED:20260425T184107Z
DESCRIPTION:"toy donation or $10"\; adding drive info when listed (unless 
 maybe the bands just want toys\, idk)
LOCATION:hart bar (538 hart st.\, brooklyn)
END:VEVENT
END:VCALENDAR
