BEGIN:VCALENDAR
BEGIN:VEVENT
SUMMARY:Shadowfest Gothic & Post-Punk: Lulu Black\, Holy Wisdom LLC\, Smok
 e Break\, Savini Psoas [nycnoise]
DTSTART:20251212T000000Z
DTEND:20251212T010000Z
UID:1ed73a2d-53ee-4eae-8891-23c344d19c2f
CREATED:20260425T184029Z
DESCRIPTION:
LOCATION:hart bar (538 hart st.\, brooklyn)
END:VEVENT
END:VCALENDAR
