BEGIN:VCALENDAR
BEGIN:VEVENT
SUMMARY:$13 NYE: Knotted\, Youbet\, Laveda\, Star's Revenge\, & more [nycn
 oise]
DTSTART:20260101T010000Z
DTEND:20260101T020000Z
UID:98b90508-a059-49ba-b7ce-b42c05f20fe7
CREATED:20260425T184114Z
DESCRIPTION:
LOCATION:hart bar (538 hart st.\, brooklyn)
END:VEVENT
END:VCALENDAR
