BEGIN:VCALENDAR
BEGIN:VEVENT
SUMMARY:Ben Tyree Activator Trio\, Key Hutch [nycnoise]
DTSTART:20251204T000000Z
DTEND:20251204T010000Z
UID:1bd534d9-0274-4a3c-8edb-1ae1cb6c2d61
CREATED:20260425T183806Z
DESCRIPTION:
LOCATION:nublu 151 (151 ave c\, manhattan)
END:VEVENT
END:VCALENDAR
