BEGIN:VCALENDAR
BEGIN:VEVENT
SUMMARY:Zemog El Gallo Bueno (Album Release)\, Green Mambo [nycnoise]
DTSTART:20251214T000000Z
DTEND:20251214T010000Z
UID:9ad36de3-1a7d-440f-9ee8-6cbd9ccf0fba
CREATED:20260425T184107Z
DESCRIPTION:
LOCATION:nublu 151 (151 ave c\, manhattan)
END:VEVENT
END:VCALENDAR
