BEGIN:VCALENDAR
BEGIN:VEVENT
SUMMARY:Snack Mix vol. 22: Jeremy Gustin\, LIP TALK\, Joan Wasser\, Ryan D
 ugre\, Charlotte Greve\, Jason Lindner [nycnoise]
DTSTART:20251215T030000Z
DTEND:20251215T040000Z
UID:269d3123-9b97-4a88-8e40-33cae2e454a1
CREATED:20260425T184107Z
DESCRIPTION:
LOCATION:nublu 151 (151 ave c\, manhattan)
END:VEVENT
END:VCALENDAR
