BEGIN:VCALENDAR
BEGIN:VEVENT
SUMMARY:Ian Davis: Rock Band\, Anywhere\, Market [nycnoise]
DTSTART:20251207T010000Z
DTEND:20251207T020000Z
UID:cd511bf5-2b0a-4f8b-bcc2-3989ac626d23
CREATED:20260425T184107Z
DESCRIPTION:7:30pm doors
LOCATION:owl (497 rogers ave\, brooklyn)
END:VEVENT
END:VCALENDAR
