BEGIN:VCALENDAR
BEGIN:VEVENT
SUMMARY:Nightfishing w/ Levon Henry & friends: Little Mystery\, Ian Davis\
 , Carmen Quill\, Scree\, Zosha Warpeha\, Carney\, Trixie Whitley\, & more 
 [nycnoise]
DTSTART:20251219T010000Z
DTEND:20251219T020000Z
UID:273e3527-53c2-456e-8893-a6407cd930e1
CREATED:20260425T183939Z
DESCRIPTION:7:30pm doors
LOCATION:owl (497 rogers ave\, brooklyn)
END:VEVENT
END:VCALENDAR
