BEGIN:VCALENDAR
BEGIN:VEVENT
SUMMARY:Last Month of Owl: Dangle\, Invisible Guy (Michael Coleman\, Hamir
  Atwal\, Joshua Crumbly\, Ben Goldberg) [nycnoise]
DTSTART:20251221T010000Z
DTEND:20251221T020000Z
UID:48264205-3f3d-4e14-a2dd-219f658d0a07
CREATED:20260425T184013Z
DESCRIPTION:7:30pm doors
LOCATION:owl (497 rogers ave\, brooklyn)
END:VEVENT
END:VCALENDAR
