BEGIN:VCALENDAR
BEGIN:VEVENT
SUMMARY:Cherish Menzo & Camilo Mejía Cortés: D̶A̶R̶K̶MATTER\, Night 
 #3/5 [nycnoise]
DTSTART:20260117T000000Z
DTEND:20260117T010000Z
UID:86283628-e6b4-43bd-94a2-0d26ae1c645e
CREATED:20260425T165143Z
DESCRIPTION:"stroboscope effects\, extensive black-outs\, regular nudity"
LOCATION:performance space (150 1st ave (at 9th st.)\, 4th fl.\, manhattan
 )
END:VEVENT
END:VCALENDAR
