BEGIN:VCALENDAR
BEGIN:VEVENT
SUMMARY:Stereo Mandrax Presents: Gun Boat\, Snake Union (Chuck Bettis & Da
 vid Grant)\, Dead Waiter [nycnoise]
DTSTART:20251208T000000Z
DTEND:20251208T010000Z
UID:3842dff8-7e4d-43d8-95d2-242db9c375d2
CREATED:20260425T183830Z
DESCRIPTION:free w/ rsvp
LOCATION:pianos (158 Ludlow St\, New York\, NY 10002)
END:VEVENT
END:VCALENDAR
