BEGIN:VCALENDAR
BEGIN:VEVENT
SUMMARY:Delicate Steve Holiday Show\, Night #1/2 [nycnoise]
DTSTART:20251217T000000Z
DTEND:20251217T010000Z
UID:2c4a2db2-53ee-46ca-9f4c-5d43b4b0e828
CREATED:20260425T183932Z
DESCRIPTION:
LOCATION:pianos (158 Ludlow St\, New York\, NY 10002)
END:VEVENT
END:VCALENDAR
