BEGIN:VCALENDAR
BEGIN:VEVENT
SUMMARY:yuniya edi kwon & PinkNoise [nycnoise]
DTSTART:20251208T000000Z
DTEND:20251208T010000Z
UID:8c548682-6527-4726-a482-5e698d8e1622
CREATED:20260425T183804Z
DESCRIPTION:PinkNoise: Johnna Wu\, Simon Kanzler\, Iva Casian-Lakos\, Robe
 rta Michel\, Kaichi Hirayama
LOCATION:zürcher gallery (33 bleecker st.\, manhattan)
END:VEVENT
END:VCALENDAR
