BEGIN:VCALENDAR
BEGIN:VEVENT
SUMMARY:Jerome Sabbagh (w/ Ben Monder\, Gary Wang\, Kayvon Gordon) [nycnoi
 se]
DTSTART:20251204T003000Z
DTEND:20251204T013000Z
UID:91ec0966-bd9c-4b9d-9936-c0a139f5cdaf
CREATED:20260425T184113Z
DESCRIPTION:7:30pm tix + 9pm tix
LOCATION:close up jazz (154 Orchard St\, New York\, NY 10002\, United Stat
 es)
END:VEVENT
END:VCALENDAR
