BEGIN:VCALENDAR
BEGIN:VEVENT
SUMMARY:Yvonne Rogers (w/ Harish Raghavan\, Kayvon Gordon) [nycnoise]
DTSTART:20251205T033000Z
DTEND:20251205T043000Z
UID:155ba811-2564-4a4d-a89e-543a8b5a1141
CREATED:20260425T183937Z
DESCRIPTION:11:30pm "jam"
LOCATION:close up jazz (154 Orchard St\, New York\, NY 10002\, United Stat
 es)
END:VEVENT
END:VCALENDAR
