BEGIN:VCALENDAR
BEGIN:VEVENT
SUMMARY:Sara Serpa & Matt Mitchell (Album Release) [nycnoise]
DTSTART:20251209T003000Z
DTEND:20251209T013000Z
UID:99988f92-d500-4a03-b2da-7c2ed7b99feb
CREATED:20260425T183805Z
DESCRIPTION:7:30pm tix + 9pm tix
LOCATION:close up jazz (154 Orchard St\, New York\, NY 10002\, United Stat
 es)
END:VEVENT
END:VCALENDAR
