BEGIN:VCALENDAR
BEGIN:VEVENT
SUMMARY:Selendis S.A. Johnson [nycnoise]
DTSTART:20251215T003000Z
DTEND:20251215T013000Z
UID:582b16af-81c8-4f0c-8fa0-7e594bc35426
CREATED:20260425T184030Z
DESCRIPTION:7:30pm tix + 9pm tix
LOCATION:close up jazz (154 Orchard St\, New York\, NY 10002\, United Stat
 es)
END:VEVENT
END:VCALENDAR
