BEGIN:VCALENDAR
BEGIN:VEVENT
SUMMARY:Alfredo Colón [nycnoise]
DTSTART:20251227T010000Z
DTEND:20251227T020000Z
UID:ec4f8037-6ae5-4b98-b7cf-e4a9b7d5fb88
CREATED:20260425T184031Z
DESCRIPTION:8pm tix + 10pm tix
LOCATION:close up jazz (154 Orchard St\, New York\, NY 10002\, United Stat
 es)
END:VEVENT
END:VCALENDAR
