BEGIN:VCALENDAR
BEGIN:VEVENT
SUMMARY:Eva Novoa & Art Jones: Synesthesia [nycnoise]
DTSTART:20251211T010000Z
DTEND:20251211T020000Z
UID:9967b523-2d83-45dd-b6ef-8b6c73ebbc02
CREATED:20260425T184013Z
DESCRIPTION:
LOCATION:ibeam (168 7th st.\, brooklyn)
END:VEVENT
END:VCALENDAR
