BEGIN:VCALENDAR
BEGIN:VEVENT
SUMMARY:New Ear SPATIAL 012: Micah Silver\, Laura Splan\, Ivy Fu [nycnoise
 ]
DTSTART:20251208T010000Z
DTEND:20251208T020000Z
UID:c54f4410-f2c1-4ca4-b2c8-75bbce01fdcc
CREATED:20260425T183937Z
DESCRIPTION:
LOCATION:fridman gallery (169 bowery\, manhattan)
END:VEVENT
END:VCALENDAR
