BEGIN:VCALENDAR
BEGIN:VEVENT
SUMMARY:New Ear: andPlay presents works by Magnus Granberg & Angharad Davi
 es [nycnoise]
DTSTART:20251213T000000Z
DTEND:20251213T010000Z
UID:7c92bf10-f2b4-4fd0-8932-8761f5eecf87
CREATED:20260425T184105Z
DESCRIPTION:andPlay: Maya Bennardo &amp\; Hannah Levinson
LOCATION:fridman gallery (169 bowery\, manhattan)
END:VEVENT
END:VCALENDAR
