BEGIN:VCALENDAR
BEGIN:VEVENT
SUMMARY:NOTAFLOF NYE [nycnoise]
DTSTART:20260101T010000Z
DTEND:20260101T020000Z
UID:58ace9b7-1aa2-4c2a-a9df-3d22c4f14274
CREATED:20260425T184108Z
DESCRIPTION:according to email\; info asap
LOCATION:cutelab
END:VEVENT
END:VCALENDAR
