BEGIN:VCALENDAR
BEGIN:VEVENT
SUMMARY:Gerald Clayton #3/4 [nycnoise]
DTSTART:20251220T000000Z
DTEND:20251220T010000Z
UID:308fbee2-5aa5-46ad-9742-0fb69b0ab90f
CREATED:20260425T184108Z
DESCRIPTION:w/ Emmanuel Michael\, Harish Raghavan\, Tyshawn Sorey
LOCATION:jazz gallery (1160 broadway (on w. 27th)\, fl.5\, manhattan)
END:VEVENT
END:VCALENDAR
