BEGIN:VCALENDAR
BEGIN:VEVENT
SUMMARY:Gerald Clayton #4/4 [nycnoise]
DTSTART:20251221T000000Z
DTEND:20251221T010000Z
UID:aa986953-90ac-4b84-b471-50502a5b03ae
CREATED:20260425T184029Z
DESCRIPTION:w/ Emmanuel Michael\, Harish Raghavan\, Tyshawn Sorey
LOCATION:jazz gallery (1160 broadway (on w. 27th)\, fl.5\, manhattan)
END:VEVENT
END:VCALENDAR
