BEGIN:VCALENDAR
BEGIN:VEVENT
SUMMARY:$60+ [nycnoise]
DTSTART:20251212T020000Z
DTEND:20251212T030000Z
UID:51511f4f-c648-4283-94b2-650c02dad787
CREATED:20260425T184108Z
DESCRIPTION:TJG fundraising concerts: Bill Frisell w/ Jaleel Shaw\, Camero
 n Campbell\, Johnathan Blake\, Night #2/2\; 7pm *&amp\;* 9pm +++ LIVESTREA
 M (~$20)
LOCATION:jazz gallery (1160 broadway (on w. 27th)\, fl.5\, manhattan)
END:VEVENT
END:VCALENDAR
