BEGIN:VCALENDAR
BEGIN:VEVENT
SUMMARY:Bitchin Bajas\, Night #1/2 [nycnoise]
DTSTART:20251211T003000Z
DTEND:20251211T013000Z
UID:92a03101-a5f6-4e9b-9a26-112006ef64b6
CREATED:20260425T183932Z
DESCRIPTION:7pm doors
LOCATION:union pool (484 union ave\, brooklyn)
END:VEVENT
END:VCALENDAR
