BEGIN:VCALENDAR
BEGIN:VEVENT
SUMMARY:Soup & Sound: KnCurrent (patrick brennan\, Cooper-Moore\, On Ka’
 a Davis\, Jason Kao Hwang) [nycnoise]
DTSTART:20251214T010000Z
DTEND:20251214T020000Z
UID:a4acbafe-1c4a-4901-ad55-8826779e1ae7
CREATED:20260425T184032Z
DESCRIPTION:updating soup status asap
LOCATION:soup & sound (292 lefferts ave\, brooklyn)
END:VEVENT
END:VCALENDAR
