BEGIN:VCALENDAR
BEGIN:VEVENT
SUMMARY:Bergamot Quartet 'Extended' Residency with Scarcity [nycnoise]
DTSTART:20251215T003000Z
DTEND:20251215T013000Z
UID:5e609395-8553-4eff-9ee5-0fd84410ebba
CREATED:20260425T184112Z
DESCRIPTION:omg it is indeed with *that* scarcity
LOCATION:threes brewing (333 douglass st.\, brooklyn)
END:VEVENT
END:VCALENDAR
