BEGIN:VCALENDAR
BEGIN:VEVENT
SUMMARY:Olli Hirvonen\, Jonathan Goldberger Trio [nycnoise]
DTSTART:20251222T003000Z
DTEND:20251222T013000Z
UID:1baa1398-8035-4ee9-9ca8-878c5d76ef3b
CREATED:20260425T183932Z
DESCRIPTION:
LOCATION:threes brewing (333 douglass st.\, brooklyn)
END:VEVENT
END:VCALENDAR
