BEGIN:VCALENDAR
BEGIN:VEVENT
SUMMARY:Molasses\, Jacob Winans\, Kwami Winfield + C. Spencer Yeh\, Knife 
 Mall\, ISO\, DJ Hotel Michelle [nycnoise]
DTSTART:20251209T010000Z
DTEND:20251209T020000Z
UID:6ffa2372-476d-4c01-a20f-cf2952a7efaf
CREATED:20260425T183806Z
DESCRIPTION:
LOCATION:trans-pecos (9-15 wyckoff ave\, ridgewood)
END:VEVENT
END:VCALENDAR
