BEGIN:VCALENDAR
BEGIN:VEVENT
SUMMARY:VILE: A Total Wreck\, Goof Goblin\, Eevie Echoes & The Locations\,
  MZZTR\, Anxioushum [nycnoise]
DTSTART:20251213T010000Z
DTEND:20251213T020000Z
UID:a5047579-726d-4ceb-bd07-3d1a538efa8d
CREATED:20260425T184110Z
DESCRIPTION:7pm doors\; "punk party for trans/queer folks &amp\; their lov
 ed ones" + vendors market including mutual aid orgs\; 🌀 "Black trans fo
 lk free entry" &amp\; 😷 masks required
LOCATION:tv eye (1647 Weirfield St\, Ridgewood\, NY 11385)
END:VEVENT
END:VCALENDAR
