BEGIN:VCALENDAR
BEGIN:VEVENT
SUMMARY:BMT (Bob Bert\, Mark Morgan\, Tim Dahl)\, Office Hours\, YUVEES\, 
 Dust To Eat [nycnoise]
DTSTART:20251215T000000Z
DTEND:20251215T010000Z
UID:c5cedea4-3d7a-4e1e-a3cd-5fc11ea7af3d
CREATED:20260425T184111Z
DESCRIPTION:
LOCATION:tv eye (1647 Weirfield St\, Ridgewood\, NY 11385)
END:VEVENT
END:VCALENDAR
