BEGIN:VCALENDAR
BEGIN:VEVENT
SUMMARY:Sun Ra Arkestra Holiday Jam [nycnoise]
DTSTART:20251227T233000Z
DTEND:20251228T003000Z
UID:e16539ed-5d2c-43fb-8771-3ec83cd81f74
CREATED:20260425T184111Z
DESCRIPTION:
LOCATION:tv eye (1647 Weirfield St\, Ridgewood\, NY 11385)
END:VEVENT
END:VCALENDAR
